BEGIN:VCALENDAR
VERSION:2.0
PRODID:-//Gilda&#039;s LaughFest - ECPv6.15.20//NONSGML v1.0//EN
CALSCALE:GREGORIAN
METHOD:PUBLISH
X-ORIGINAL-URL:https://www.laughfestgr.org
X-WR-CALDESC:Events for Gilda&#039;s LaughFest
REFRESH-INTERVAL;VALUE=DURATION:PT1H
X-Robots-Tag:noindex
X-PUBLISHED-TTL:PT1H
BEGIN:VTIMEZONE
TZID:America/Detroit
BEGIN:DAYLIGHT
TZOFFSETFROM:-0500
TZOFFSETTO:-0400
TZNAME:EDT
DTSTART:20250309T070000
END:DAYLIGHT
BEGIN:STANDARD
TZOFFSETFROM:-0400
TZOFFSETTO:-0500
TZNAME:EST
DTSTART:20251102T060000
END:STANDARD
BEGIN:DAYLIGHT
TZOFFSETFROM:-0500
TZOFFSETTO:-0400
TZNAME:EDT
DTSTART:20260308T070000
END:DAYLIGHT
BEGIN:STANDARD
TZOFFSETFROM:-0400
TZOFFSETTO:-0500
TZNAME:EST
DTSTART:20261101T060000
END:STANDARD
BEGIN:DAYLIGHT
TZOFFSETFROM:-0500
TZOFFSETTO:-0400
TZNAME:EDT
DTSTART:20270314T070000
END:DAYLIGHT
BEGIN:STANDARD
TZOFFSETFROM:-0400
TZOFFSETTO:-0500
TZNAME:EST
DTSTART:20271107T060000
END:STANDARD
END:VTIMEZONE
BEGIN:VEVENT
DTSTART;TZID=America/Detroit:20260312T193000
DTEND;TZID=America/Detroit:20260312T193000
DTSTAMP:20260421T132139
CREATED:20260120T100000Z
LAST-MODIFIED:20260312T171845Z
UID:10000144-1773343800-1773343800@www.laughfestgr.org
SUMMARY:Carl Sobel and North Kent Comedy Team
DESCRIPTION:Event Type:\n\n\n\nShow \n\n\n\n\n\nVenue + Time:\n\n\n\nDoors at 7 p.m.Show at 7:30 p.m.Atwater Brewing \n\n\n\n\n\nPrice:\n\n\n\nGeneral Admission: $20Age 21+ \n\n\n\n\n\n\nLOW INVENTORY\n\n\n\n\n\n\n\n\n\n\n\n\n\n\n\n\n\n\n\n\n\n\n\n\n\n\n\n\n\n\nContent Guidance Rating:\n\n\n\n\n\n\n\n\n\n\n\n\n\n\nATG – Anything Goes\n\n\n\n\n\n\n\n\n\n\n\n\n\n\n\nNORTH KENT COMEDY & CARL SOBEL\n\n\n\nNKC IS A TEAM OF MICHIGAN BASED COMEDIANS\, DEDICATED TO PRODUCING COMEDY SHOWS THAT BENEFIT THEIR COMMUNITIES. \n\n\n\nTHIS SHOWCASE FEATURES A FEW OF THE BEST UP AND COMING COMEDIANS FROM DIFFERENT MICHIGAN TOWNS AND COMEDY SCENES. \n\n\n\n\n\n\n\n\nGet Tickets\n\n\n\n\n\n\n\n\n\nPresenting Sponsors
URL:https://www.laughfestgr.org/event/carl-sobel-and-north-kent-comedy-team/
LOCATION:Atwater Brewing\, 201 Michigan St NW\, Grand Rapids\, Michigan\, 49503
CATEGORIES:Stand Up
ATTACH;FMTTYPE=image/png:https://www.laughfestgr.org/wp-content/uploads/2026/01/North-Kent-Comedy.png
END:VEVENT
END:VCALENDAR