BEGIN:VCALENDAR
VERSION:2.0
PRODID:-//Gilda&#039;s LaughFest - ECPv6.15.20//NONSGML v1.0//EN
CALSCALE:GREGORIAN
METHOD:PUBLISH
X-WR-CALNAME:Gilda&#039;s LaughFest
X-ORIGINAL-URL:https://www.laughfestgr.org
X-WR-CALDESC:Events for Gilda&#039;s LaughFest
REFRESH-INTERVAL;VALUE=DURATION:PT1H
X-Robots-Tag:noindex
X-PUBLISHED-TTL:PT1H
BEGIN:VTIMEZONE
TZID:America/Detroit
BEGIN:DAYLIGHT
TZOFFSETFROM:-0500
TZOFFSETTO:-0400
TZNAME:EDT
DTSTART:20250309T070000
END:DAYLIGHT
BEGIN:STANDARD
TZOFFSETFROM:-0400
TZOFFSETTO:-0500
TZNAME:EST
DTSTART:20251102T060000
END:STANDARD
BEGIN:DAYLIGHT
TZOFFSETFROM:-0500
TZOFFSETTO:-0400
TZNAME:EDT
DTSTART:20260308T070000
END:DAYLIGHT
BEGIN:STANDARD
TZOFFSETFROM:-0400
TZOFFSETTO:-0500
TZNAME:EST
DTSTART:20261101T060000
END:STANDARD
BEGIN:DAYLIGHT
TZOFFSETFROM:-0500
TZOFFSETTO:-0400
TZNAME:EDT
DTSTART:20270314T070000
END:DAYLIGHT
BEGIN:STANDARD
TZOFFSETFROM:-0400
TZOFFSETTO:-0500
TZNAME:EST
DTSTART:20271107T060000
END:STANDARD
END:VTIMEZONE
BEGIN:VEVENT
DTSTART;TZID=America/Detroit:20260314T190000
DTEND;TZID=America/Detroit:20260314T190000
DTSTAMP:20260421T075302
CREATED:20260212T200625Z
LAST-MODIFIED:20260314T003033Z
UID:10000173-1773514800-1773514800@www.laughfestgr.org
SUMMARY:CANCELLED-Monet X Change
DESCRIPTION:Venue & Showtime:\n\n\n\nThe Big Room \n\n\n\n\n\nPrice:\n\n\n\nGeneral Admission: $30+ \n\n\n\n\n\n\nGet Tickets\n\n\n\n\n\n\n\nDue to unforeseen travel circumstances\, Monet X Change has canceled her Saturday\, March 14\, show at LaughFest. The Big Room is automatically refunding all tickets that were purchased online with a debit/credit card. The Big Room is working to reschedule her performance as soon as possible.  \n\n\n\nIf you have any questions\, you can contact The Big Room at thebigroom@silvagr.org \n\n\n\nPlease check out our full event listing for other events happening this evening.  \n\n\n\n\n\n\n\n\n\n\n\n\n\n\nContent Guidance Rating:\n\n\n\n\n\n\n\n\n\n\n\n\n\n\nATG – Anything Goes\n\n\n\n\n\n\n\n\n\n\n\nMonét X Change\n\n\n\nMonét X Change (RuPaul’s Drag Race\, The Traitors) is a Los Angeles based stand-up comedian and true multi-hyphenate born and bred in New York City. Known for her unforgettable charisma and effortless ability to command a room with beauty\, stage presence\, and sharp storytelling\, Monét has received critical acclaim for her comedy work from The Guardian\, Playbill\, NBC News\, Out Magazine\, and TODAY.com. She has performed sold-out shows at comedy clubs and theaters around the U.S.\, U.K. and Canada\, as well as the Netflix Is a Joke and Edinburgh Fringe Festivals. Her debut one-woman comedy show Life Be Lifin’ garnered rave reviews\, with Playbill calling it “a work more on par with the likes of Mike Birbiglia and Alex Edelman.” \n\n\n\nMonét delivers a distinctive mix of charm\, insight\, and biting humor to every stage. Often dancing with sociopolitical themes\, Monét’s comedy takes a raucous dive into everything and everyone. She’s also the co-host of the hit WEBBY and GLAAD Media Award-Winning podcast “Sibling Rivalry\,” alongside Bob the Drag Queen\, and the creator and host of her new YouTube chat show\, “Monét Talks.” \n\n\n\nOn screen\, Monét is best known for her iconic stints on three seasons of RuPaul’s Drag Race—including snatching the crown on All Stars 4. You also may have caught her in Netflix’s Survival of the Thickest\, cracking up audiences on After Midnight (CBS) with Taylor Tomlinson\, and— soon—in the newest season of The Traitors on Peacock.  \n\n\n\n\n\n\n\n\nGet Tickets\n\n\n\n\n\n\n\n\nPresenting Sponsor
URL:https://www.laughfestgr.org/event/monet-x-change/
LOCATION:The Big Room\, 975 Ottawa Ave NW\, Grand Rapids\, Michigan\, 49503\, United States
CATEGORIES:Improv & Sketch,Local Laughter
ATTACH;FMTTYPE=image/png:https://www.laughfestgr.org/wp-content/uploads/2026/02/LF-HEADERS-3.png
END:VEVENT
END:VCALENDAR